BEGIN:VCALENDAR
VERSION:2.0
PRODID:-//Derwent Sailing Squadron - ECPv4.9.3.1//NONSGML v1.0//EN
CALSCALE:GREGORIAN
METHOD:PUBLISH
X-WR-CALNAME:Derwent Sailing Squadron
X-ORIGINAL-URL:https://dssinc.org.au
X-WR-CALDESC:Events for Derwent Sailing Squadron
BEGIN:VEVENT
DTSTART;TZID=Australia/Hobart:20210203T133000
DTEND;TZID=Australia/Hobart:20210203T150000
DTSTAMP:20210223T202942
CREATED:20200824T051159Z
LAST-MODIFIED:20200824T051159Z
UID:14279-1612359000-1612364400@dssinc.org.au
SUMMARY:2020-21 Midweek Series Two Race 5 - RYCT
DESCRIPTION:
URL:https://dssinc.org.au/event/2020-21-midweek-series-two-race-5-ryct/
LOCATION:Derwent River\, Derwent River\, Tasmania\, Australia
CATEGORIES:Racing,Weekly Schedule
ATTACH;FMTTYPE=image/png:https://dssinc.org.au/wp-content/uploads/2020/08/Midweek-Series-Facebook-Post-2020.21.png
ORGANIZER;CN="Derwent%20Sailing%20Squadron%20%28Sailing%29":MAILTO:sailing@dssinc.org.au
END:VEVENT
BEGIN:VEVENT
DTSTART;TZID=Australia/Hobart:20210204T173000
DTEND;TZID=Australia/Hobart:20210204T203000
DTSTAMP:20210223T202942
CREATED:20200824T044059Z
LAST-MODIFIED:20200824T044059Z
UID:14228-1612459800-1612470600@dssinc.org.au
SUMMARY:2020-21 Post Xmas Twilight Race 5 - RYCT
DESCRIPTION:
URL:https://dssinc.org.au/event/2020-21-post-xmas-twilight-race-5-ryct/
LOCATION:Derwent River\, Derwent River\, Tasmania\, Australia
CATEGORIES:Racing,SB20 Pennant,Twilight Series,Weekly Schedule
ATTACH;FMTTYPE=image/png:https://dssinc.org.au/wp-content/uploads/2020/08/Facebook-Post-Twilight-Series-2020.21.png
ORGANIZER;CN="Derwent%20Sailing%20Squadron%20%28Sailing%29":MAILTO:sailing@dssinc.org.au
END:VEVENT
BEGIN:VEVENT
DTSTART;TZID=Australia/Hobart:20210210T133000
DTEND;TZID=Australia/Hobart:20210210T150000
DTSTAMP:20210223T202942
CREATED:20200824T050932Z
LAST-MODIFIED:20200824T051023Z
UID:14278-1612963800-1612969200@dssinc.org.au
SUMMARY:2020-21 Midweek Series Two Race 6 - DSS
DESCRIPTION:
URL:https://dssinc.org.au/event/2020-21-midweek-series-two-race-6-dss/
LOCATION:Derwent River\, Derwent River\, Tasmania\, Australia
CATEGORIES:Racing,Weekly Schedule
ATTACH;FMTTYPE=image/png:https://dssinc.org.au/wp-content/uploads/2020/08/Midweek-Series-Facebook-Post-2020.21.png
ORGANIZER;CN="Derwent%20Sailing%20Squadron%20%28Sailing%29":MAILTO:sailing@dssinc.org.au
END:VEVENT
BEGIN:VEVENT
DTSTART;TZID=Australia/Hobart:20210211T173000
DTEND;TZID=Australia/Hobart:20210211T203000
DTSTAMP:20210223T202942
CREATED:20200824T044046Z
LAST-MODIFIED:20200824T044046Z
UID:14227-1613064600-1613075400@dssinc.org.au
SUMMARY:2020-21 Post Xmas Twilight Race 6 - DSS
DESCRIPTION:
URL:https://dssinc.org.au/event/2020-21-post-xmas-twilight-race-6-dss/
LOCATION:Derwent River\, Derwent River\, Tasmania\, Australia
CATEGORIES:Racing,SB20 Pennant,Twilight Series,Weekly Schedule
ATTACH;FMTTYPE=image/png:https://dssinc.org.au/wp-content/uploads/2020/08/Facebook-Post-Twilight-Series-2020.21.png
ORGANIZER;CN="Derwent%20Sailing%20Squadron%20%28Sailing%29":MAILTO:sailing@dssinc.org.au
END:VEVENT
BEGIN:VEVENT
DTSTART;TZID=Australia/Hobart:20210217T133000
DTEND;TZID=Australia/Hobart:20210217T150000
DTSTAMP:20210223T202942
CREATED:20200824T045532Z
LAST-MODIFIED:20200824T045532Z
UID:14254-1613568600-1613574000@dssinc.org.au
SUMMARY:2020-21 Midweek Series Two Race 7 - BYC
DESCRIPTION:
URL:https://dssinc.org.au/event/2020-21-midweek-series-two-race-7-byc/
LOCATION:Derwent River\, Derwent River\, Tasmania\, Australia
CATEGORIES:Racing,Weekly Schedule
ATTACH;FMTTYPE=image/png:https://dssinc.org.au/wp-content/uploads/2020/08/Midweek-Series-Facebook-Post-2020.21.png
ORGANIZER;CN="Derwent%20Sailing%20Squadron%20%28Sailing%29":MAILTO:sailing@dssinc.org.au
END:VEVENT
BEGIN:VEVENT
DTSTART;TZID=Australia/Hobart:20210218T173000
DTEND;TZID=Australia/Hobart:20210218T203000
DTSTAMP:20210223T202942
CREATED:20200824T044209Z
LAST-MODIFIED:20200824T044209Z
UID:14232-1613669400-1613680200@dssinc.org.au
SUMMARY:2020-21 Post Xmas Twilight Race 7 - RYCT
DESCRIPTION:
URL:https://dssinc.org.au/event/2020-21-post-xmas-twilight-race-7-ryct/
LOCATION:Derwent River\, Derwent River\, Tasmania\, Australia
CATEGORIES:Racing,SB20 Pennant,Twilight Series,Weekly Schedule
ATTACH;FMTTYPE=image/png:https://dssinc.org.au/wp-content/uploads/2020/08/Facebook-Post-Twilight-Series-2020.21.png
ORGANIZER;CN="Derwent%20Sailing%20Squadron%20%28Sailing%29":MAILTO:sailing@dssinc.org.au
END:VEVENT
BEGIN:VEVENT
DTSTART;TZID=Australia/Hobart:20210224T133000
DTEND;TZID=Australia/Hobart:20210224T150000
DTSTAMP:20210223T202942
CREATED:20200824T051333Z
LAST-MODIFIED:20200824T051333Z
UID:14284-1614173400-1614178800@dssinc.org.au
SUMMARY:2020-21 Midweek Series Two Race 8 - RYCT
DESCRIPTION:
URL:https://dssinc.org.au/event/2020-21-midweek-series-two-race-8-ryct/
LOCATION:Derwent River\, Derwent River\, Tasmania\, Australia
CATEGORIES:Racing,Weekly Schedule
ATTACH;FMTTYPE=image/png:https://dssinc.org.au/wp-content/uploads/2020/08/Midweek-Series-Facebook-Post-2020.21.png
ORGANIZER;CN="Derwent%20Sailing%20Squadron%20%28Sailing%29":MAILTO:sailing@dssinc.org.au
END:VEVENT
BEGIN:VEVENT
DTSTART;TZID=Australia/Hobart:20210225T173000
DTEND;TZID=Australia/Hobart:20210225T203000
DTSTAMP:20210223T202942
CREATED:20200824T044152Z
LAST-MODIFIED:20200824T044152Z
UID:14231-1614274200-1614285000@dssinc.org.au
SUMMARY:2020-21 Post Xmas Twilight Race 8 - DSS
DESCRIPTION:
URL:https://dssinc.org.au/event/2020-21-post-xmas-twilight-race-8-dss/
LOCATION:Derwent River\, Derwent River\, Tasmania\, Australia
CATEGORIES:Racing,SB20 Pennant,Twilight Series,Weekly Schedule
ATTACH;FMTTYPE=image/png:https://dssinc.org.au/wp-content/uploads/2020/08/Facebook-Post-Twilight-Series-2020.21.png
ORGANIZER;CN="Derwent%20Sailing%20Squadron%20%28Sailing%29":MAILTO:sailing@dssinc.org.au
END:VEVENT
BEGIN:VEVENT
DTSTART;TZID=Australia/Hobart:20210227T133000
DTEND;TZID=Australia/Hobart:20210227T170000
DTSTAMP:20210223T202942
CREATED:20200824T035841Z
LAST-MODIFIED:20200824T035841Z
UID:14187-1614432600-1614445200@dssinc.org.au
SUMMARY:2020-21 Combined Clubs Summer Pennant Race 8 - DSS
DESCRIPTION:
URL:https://dssinc.org.au/event/2020-21-combined-clubs-summer-pennant-race-8-dss/
LOCATION:Derwent River\, Derwent River\, Tasmania\, Australia
CATEGORIES:Racing,Weekly Schedule
ATTACH;FMTTYPE=image/png:https://dssinc.org.au/wp-content/uploads/2020/08/Summer-Pennant-Series-Facebook-Post-2020.21.png
ORGANIZER;CN="Derwent%20Sailing%20Squadron%20%28Sailing%29":MAILTO:sailing@dssinc.org.au
END:VEVENT
END:VCALENDAR